BEGIN:VCALENDAR
VERSION:2.0
PRODID:-//eventon.com NONSGML v1.0//EN
BEGIN:VEVENT
UID:69ebaf5b3f7f2
DTSTAMP:20260424T175851
DTSTART:20220514T010000Z
DTEND:20220513T160000Z
TZID:Asia/Taipei
LOCATION:BULELENG 
SUMMARY:Vihara Giri Manggala
DESCRIPTION: Donor Darah Vihara Giri Manggala Alamat : Desa Alasangker\,  Kec. Buleleng\,  Kabupaten Buleleng\,  Bali 81119\nhttps://udd.pmibuleleng.or.id/events/vihara-giri-manggala/
URL:https://udd.pmibuleleng.or.id/events/vihara-giri-manggala/
END:VEVENT
END:VCALENDAR