BEGIN:VCALENDAR
VERSION:2.0
PRODID:-//eventon.com NONSGML v1.0//EN
BEGIN:VEVENT
UID:69eb9880899d8
DTSTAMP:20260424T162120
DTSTART:20220507T010000Z
DTEND:20220506T160000Z
TZID:Asia/Taipei
LOCATION:Aula SMA Lab Undiksha\,  Jl. Jatayu No.10\,  Kaliuntu\,  Kec. Buleleng\,  Kabupaten Buleleng\,  Bali 81116 
SUMMARY:UKM PRAMUKA UNDIKSHA
DESCRIPTION: Donor Darah UKM Pramuka Undiksha Alamat : Aula SMA Lab Undiksha\,  Jl. Jatayu No.10\,  Kaliuntu\,  Kec. Buleleng\,  Kabupaten Buleleng\,  Bali 81116\nhttps://udd.pmibuleleng.or.id/events/ukm-pramuka-undiksha/
URL:https://udd.pmibuleleng.or.id/events/ukm-pramuka-undiksha/
END:VEVENT
END:VCALENDAR