BEGIN:VCALENDAR
VERSION:2.0
PRODID:-//eventon.com NONSGML v1.0//EN
BEGIN:VEVENT
UID:69ebc489eb3f9
DTSTAMP:20260424T192913
DTSTART:20220513T010000Z
DTEND:20220512T160000Z
TZID:Asia/Taipei
LOCATION:BULELENG 
SUMMARY:RSU SHANTI GRAHA
DESCRIPTION: Donor Darah Rumah Sakit Shanti Graha Alamat : RSU Shanti Graha\,  Desa Sulanyah Kecamatan Seririt Singaraja\,  Sulanyah\,  Buleleng\,  Kabupaten Buleleng\,  Bali 81153\nhttps://udd.pmibuleleng.or.id/events/rsu-shanti-graha/
URL:https://udd.pmibuleleng.or.id/events/rsu-shanti-graha/
END:VEVENT
END:VCALENDAR